BEGIN:VCALENDAR
VERSION:2.0
PRODID:-//GSDL Working Dog Group of Great Britain - ECPv6.15.16//NONSGML v1.0//EN
CALSCALE:GREGORIAN
METHOD:PUBLISH
X-WR-CALNAME:GSDL Working Dog Group of Great Britain
X-ORIGINAL-URL:https://gsdleagueworkingbranch.com
X-WR-CALDESC:Events for GSDL Working Dog Group of Great Britain
REFRESH-INTERVAL;VALUE=DURATION:PT1H
X-Robots-Tag:noindex
X-PUBLISHED-TTL:PT1H
BEGIN:VTIMEZONE
TZID:Europe/London
BEGIN:DAYLIGHT
TZOFFSETFROM:+0000
TZOFFSETTO:+0100
TZNAME:BST
DTSTART:20240331T010000
END:DAYLIGHT
BEGIN:STANDARD
TZOFFSETFROM:+0100
TZOFFSETTO:+0000
TZNAME:GMT
DTSTART:20241027T010000
END:STANDARD
BEGIN:DAYLIGHT
TZOFFSETFROM:+0000
TZOFFSETTO:+0100
TZNAME:BST
DTSTART:20250330T010000
END:DAYLIGHT
BEGIN:STANDARD
TZOFFSETFROM:+0100
TZOFFSETTO:+0000
TZNAME:GMT
DTSTART:20251026T010000
END:STANDARD
BEGIN:DAYLIGHT
TZOFFSETFROM:+0000
TZOFFSETTO:+0100
TZNAME:BST
DTSTART:20260329T010000
END:DAYLIGHT
BEGIN:STANDARD
TZOFFSETFROM:+0100
TZOFFSETTO:+0000
TZNAME:GMT
DTSTART:20261025T010000
END:STANDARD
BEGIN:DAYLIGHT
TZOFFSETFROM:+0000
TZOFFSETTO:+0100
TZNAME:BST
DTSTART:20270328T010000
END:DAYLIGHT
BEGIN:STANDARD
TZOFFSETFROM:+0100
TZOFFSETTO:+0000
TZNAME:GMT
DTSTART:20271031T010000
END:STANDARD
END:VTIMEZONE
BEGIN:VEVENT
DTSTART;TZID=Europe/London:20260228T000000
DTEND;TZID=Europe/London:20260301T235959
DTSTAMP:20260423T223152
CREATED:20260213T111332Z
LAST-MODIFIED:20260213T111332Z
UID:2428-1772236800-1772409599@gsdleagueworkingbranch.com
SUMMARY:Sidewood IGP Club
DESCRIPTION:Date: 28th February & 1st March \nJudge: Diana Segers \nVenue: Sidewood Farm\, Stobwood\, Forth\, South Lanarkshire\, M11 8ET \nTrial Secretary: Anna Garber \nPhone: 07557119149 \nEmail: anngarber156@gmail.com \nHelpers: Marius Dubosas & Craig Goodall \nTracklayers: Andy Fairweather
URL:https://gsdleagueworkingbranch.com/event/sidewood-igp-club/
LOCATION:Sidewood Farm\, Stobwood\, Forth\, South Lanarkshire\, M11 8ET
END:VEVENT
BEGIN:VEVENT
DTSTART;TZID=Europe/London:20260207T000000
DTEND;TZID=Europe/London:20260208T235959
DTSTAMP:20260423T223152
CREATED:20260213T113633Z
LAST-MODIFIED:20260213T113633Z
UID:2450-1770422400-1770595199@gsdleagueworkingbranch.com
SUMMARY:Pitsford IGP Club Trial
DESCRIPTION:Date: 7th & 8th February 2026 \nJudge: Robbie De Jong WUSV Special International \nVenue: The Piggeries\, Grange Lane\, Pitsford\, NN6 9AN \nTrial Secretary: Samantha Wortley \nPhone: 07917832911 \nEmail: sonicnix27@gmail.com \nHelpers: Oliver French & Chris Wilson \nTracklayers: Oliver French & Chris Wilson
URL:https://gsdleagueworkingbranch.com/event/pitsford-igp-club-trial/
LOCATION:Pitsford IGP Club\, The Piggeries\, Grange Lane\, Pitsford\, Northampton\, NN6 9AN
END:VEVENT
BEGIN:VEVENT
DTSTART;TZID=Europe/London:20260201T130000
DTEND;TZID=Europe/London:20260201T170000
DTSTAMP:20260423T223152
CREATED:20260213T112850Z
LAST-MODIFIED:20260213T114430Z
UID:2442-1769950800-1769965200@gsdleagueworkingbranch.com
SUMMARY:GSDL-WDG AGM
DESCRIPTION:The AGM is online via Teams\, starting at 1pm.
URL:https://gsdleagueworkingbranch.com/event/gsdl-wdg-agm/
ATTACH;FMTTYPE=image/jpeg:https://gsdleagueworkingbranch.com/wp-content/uploads/2026/02/logo169.jpg
END:VEVENT
BEGIN:VEVENT
DTSTART;TZID=Europe/London:20260110T000000
DTEND;TZID=Europe/London:20260111T235959
DTSTAMP:20260423T223152
CREATED:20260213T113746Z
LAST-MODIFIED:20260213T113746Z
UID:2453-1768003200-1768175999@gsdleagueworkingbranch.com
SUMMARY:Pitsford IGP Club Trial
DESCRIPTION:Date: 10th & 11th January 2026 \nJudge: Philip Sergent \nVenue: The Piggeries\, Grange Lane\, Pitsford\, NN6 9AN \nTrial Secretary: Samantha Wortley \nPhone: 079917832811 \nEmail: sonicnix27@gmail.com \nHelpers: Oliver French & Chris Wilson \nTracklayers: Oliver French & Chris Wilson
URL:https://gsdleagueworkingbranch.com/event/pitsford-igp-club-trial-2/
LOCATION:Pitsford IGP Club\, The Piggeries\, Grange Lane\, Pitsford\, Northampton\, NN6 9AN
END:VEVENT
BEGIN:VEVENT
DTSTART;TZID=Europe/London:20260110T000000
DTEND;TZID=Europe/London:20260111T235959
DTSTAMP:20260423T223152
CREATED:20260213T113400Z
LAST-MODIFIED:20260213T113400Z
UID:2448-1768003200-1768175999@gsdleagueworkingbranch.com
SUMMARY:Halesowen Dog Sport Group
DESCRIPTION:Date: 10th & 11th January 2026 \nJudge: Dougie Bannerman \nVenue: Illey Lane Halesowen West Midlands B62 0JL \nTrial Secretary: Katy Howard \nPhone: 07887633303 \nEmail: katyoliver2010@hotmail.co.uk \nHelpers: Richard Harrison & Mike Watt \nTracklayers: Richard Harrison &  Jason Clarke
URL:https://gsdleagueworkingbranch.com/event/halesowen-dog-sport-group/
END:VEVENT
BEGIN:VEVENT
DTSTART;TZID=Europe/London:20260104T000000
DTEND;TZID=Europe/London:20260104T235959
DTSTAMP:20260423T223152
CREATED:20260213T113233Z
LAST-MODIFIED:20260213T113233Z
UID:2445-1767484800-1767571199@gsdleagueworkingbranch.com
SUMMARY:Wye Valley DSC Club Trial
DESCRIPTION:Date: 04/01/2026 \nJudge: Gavin Smith \nVenue: Wye Valley Dog Sports Club\, Tonew Kennels\, Redwick\, NP26 3DF \nTrial Secretary: Tina Rose \nPhone: 07752193704 \nEmail: tina-rose1@hotmail.com \nHelpers: Ian James \nTracklayers: Ian James
URL:https://gsdleagueworkingbranch.com/event/wye-valley-dsc-club-trial/
LOCATION:Wye Valley Dog Sports Club\, Tonew Kennels\, Redwick\, NP26 3DF
END:VEVENT
BEGIN:VEVENT
DTSTART;TZID=Europe/London:20251228T000000
DTEND;TZID=Europe/London:20251228T235959
DTSTAMP:20260423T223152
CREATED:20260213T115231Z
LAST-MODIFIED:20260213T115231Z
UID:2458-1766880000-1766966399@gsdleagueworkingbranch.com
SUMMARY:Trinity Sports Dog Club Trial
DESCRIPTION:Date: 28/12/25 \nJudge: Gavin Smith \nVenue: Dorking\, Surrey \nTrial Secretary: Maria Williamson \nPhone: 07900981508 \nEmail: shantasia_1@yahoo.co.uk \nHelpers: Veer Anand \nTracklayers: Paul Rekert & Stephen Byfield
URL:https://gsdleagueworkingbranch.com/event/trinity-sports-dog-club-trial/
END:VEVENT
BEGIN:VEVENT
DTSTART;TZID=Europe/London:20251206T000000
DTEND;TZID=Europe/London:20251207T235959
DTSTAMP:20260423T223152
CREATED:20260213T114919Z
LAST-MODIFIED:20260213T114919Z
UID:2456-1764979200-1765151999@gsdleagueworkingbranch.com
SUMMARY:Pitsford IGP Club Trial
DESCRIPTION:Date: 6th & 7th December 2025 \nJudge: Robbie De Jong FCI \nVenue: The Piggeries\, Grange Lane\, Pitsford\, NN6 9AN \nTrial Secretary: Samantha Wortley \nPhone: 07917832911 \nEmail: sonicnix27@gmail.com \nHelpers: Chris Wilson & Oliver French \nTracklayers: Chris Wilson & Oliver French
URL:https://gsdleagueworkingbranch.com/event/pitsford-igp-club-trial-3/
LOCATION:Pitsford IGP Club\, The Piggeries\, Grange Lane\, Pitsford\, Northampton\, NN6 9AN
END:VEVENT
BEGIN:VEVENT
DTSTART;TZID=Europe/London:20251129T000000
DTEND;TZID=Europe/London:20251129T235959
DTSTAMP:20260423T223152
CREATED:20260213T120454Z
LAST-MODIFIED:20260213T120454Z
UID:2473-1764374400-1764460799@gsdleagueworkingbranch.com
SUMMARY:Wessex Dog Sports Club Trial
DESCRIPTION:Judge: Henriette Bohnstedt \nVenue: Wessex Sports Dog Club\, Shepperlands Copse\, Park Lane\, Finchampstead RG40 4QE \nTrial Secretary: Matt Pit \nPhone: 07522163368 \nEmail: matthew.pitt9@gmail.com \nHelpers: George Walker \nTracklayers: George Walker
URL:https://gsdleagueworkingbranch.com/event/wessex-dog-sports-club-trial/
LOCATION:Wessex Sports Dog Club\, Shepperlands Copse\, Park Lane\, Finchampstead\, Wokingham\, Berkshire\, RG40 4QE
END:VEVENT
BEGIN:VEVENT
DTSTART;TZID=Europe/London:20251122T000000
DTEND;TZID=Europe/London:20251122T235959
DTSTAMP:20260423T223152
CREATED:20260213T120245Z
LAST-MODIFIED:20260213T120245Z
UID:2469-1763769600-1763855999@gsdleagueworkingbranch.com
SUMMARY:Northampton IGP Club Trials
DESCRIPTION:Date: 22nd November 2025 \nJudge: Dougie Bannerman \nVenue: Lower Farm\, NN7 2EE \nTrial Secretary: Emma Woodruff \nPhone: 07880677225 \nEmail: elwoodruff90@gmail.com \nHelpers: Ross Heron \nTracklayers: Ross Heron
URL:https://gsdleagueworkingbranch.com/event/northampton-igp-club-trials/
LOCATION:Lower Farm\, Wootton Road\, Quinton\, Northampton\, NN7 2EE
END:VEVENT
BEGIN:VEVENT
DTSTART;TZID=Europe/London:20251115T000000
DTEND;TZID=Europe/London:20251116T235959
DTSTAMP:20260423T223152
CREATED:20260213T115755Z
LAST-MODIFIED:20260213T115755Z
UID:2465-1763164800-1763337599@gsdleagueworkingbranch.com
SUMMARY:Severnside SDC Club Trial & AD
DESCRIPTION:Date: 15th & 16th November 2025 \nClub Trial: 15th November 2025 \nAD: 16th November 2025 \nJudge: Jim Jackson SV \nVenue: Barecroft Common\, Magor \nTrial Secretary: Martin Davies \nPhone: 07973285765 \nEmail: martind.k9@icloud.com \nHelpers: Nick Warman & Oliver Williams \nTracklayers: Bethan Allen & Martin Davies
URL:https://gsdleagueworkingbranch.com/event/severnside-sdc-club-trial-ad/
LOCATION:Barecroft Common\, Magor\, Caldicot\, Monmouthshire
END:VEVENT
BEGIN:VEVENT
DTSTART;TZID=Europe/London:20251108T000000
DTEND;TZID=Europe/London:20251109T235959
DTSTAMP:20260423T223152
CREATED:20260213T115543Z
LAST-MODIFIED:20260213T115543Z
UID:2462-1762560000-1762732799@gsdleagueworkingbranch.com
SUMMARY:Three Beacons SDC Club Trial
DESCRIPTION:Dates: 8th & 9th November 2025\n\n\nJudge: Jim Jackson \nVenue: Gidlow Lane\, Wigan\, Greater Manchester\, WN6 8RT \nTrial Secretary: Sharon Smith \nPhone: 07940297832 \nEmail: NWGSDG@gmail.com \nHelpers: John Padden \nTracklayers: Alexandra Smith
URL:https://gsdleagueworkingbranch.com/event/three-beacons-sdc-club-trial/
LOCATION:Gidlow Lane\, Wigan\, Greater Manchester\, WN6 8RT
END:VEVENT
BEGIN:VEVENT
DTSTART;TZID=Europe/London:20251025T000000
DTEND;TZID=Europe/London:20251026T235959
DTSTAMP:20260423T223152
CREATED:20260213T115341Z
LAST-MODIFIED:20260219T220023Z
UID:2460-1761350400-1761523199@gsdleagueworkingbranch.com
SUMMARY:GSDL Nationals
DESCRIPTION:Date: 25th and 26th October 2025 \nVenue: Willenhall RFC \nJudge: Diana Segers \nHelpers: John Padden & Richard Harrison \nTracklayers: Richard Harrison & Lewis Hartley \nhttps://www.caniva.com/event/21674/GSDL-Nationals-2025/
URL:https://gsdleagueworkingbranch.com/event/gsdl-nationals/
LOCATION:Willenhall RUFC\, Bognop Road\, Essington\, Staffordshire\, WV11 2BA
ATTACH;FMTTYPE=image/jpeg:https://gsdleagueworkingbranch.com/wp-content/uploads/2026/02/logo169.jpg
END:VEVENT
END:VCALENDAR