BEGIN:VCALENDAR
VERSION:2.0
PRODID:-//GSDL Working Dog Group of Great Britain - ECPv6.15.16//NONSGML v1.0//EN
CALSCALE:GREGORIAN
METHOD:PUBLISH
X-WR-CALNAME:GSDL Working Dog Group of Great Britain
X-ORIGINAL-URL:https://gsdleagueworkingbranch.com
X-WR-CALDESC:Events for GSDL Working Dog Group of Great Britain
REFRESH-INTERVAL;VALUE=DURATION:PT1H
X-Robots-Tag:noindex
X-PUBLISHED-TTL:PT1H
BEGIN:VTIMEZONE
TZID:Europe/London
BEGIN:DAYLIGHT
TZOFFSETFROM:+0000
TZOFFSETTO:+0100
TZNAME:BST
DTSTART:20240331T010000
END:DAYLIGHT
BEGIN:STANDARD
TZOFFSETFROM:+0100
TZOFFSETTO:+0000
TZNAME:GMT
DTSTART:20241027T010000
END:STANDARD
BEGIN:DAYLIGHT
TZOFFSETFROM:+0000
TZOFFSETTO:+0100
TZNAME:BST
DTSTART:20250330T010000
END:DAYLIGHT
BEGIN:STANDARD
TZOFFSETFROM:+0100
TZOFFSETTO:+0000
TZNAME:GMT
DTSTART:20251026T010000
END:STANDARD
BEGIN:DAYLIGHT
TZOFFSETFROM:+0000
TZOFFSETTO:+0100
TZNAME:BST
DTSTART:20260329T010000
END:DAYLIGHT
BEGIN:STANDARD
TZOFFSETFROM:+0100
TZOFFSETTO:+0000
TZNAME:GMT
DTSTART:20261025T010000
END:STANDARD
BEGIN:DAYLIGHT
TZOFFSETFROM:+0000
TZOFFSETTO:+0100
TZNAME:BST
DTSTART:20270328T010000
END:DAYLIGHT
BEGIN:STANDARD
TZOFFSETFROM:+0100
TZOFFSETTO:+0000
TZNAME:GMT
DTSTART:20271031T010000
END:STANDARD
END:VTIMEZONE
BEGIN:VEVENT
DTSTART;TZID=Europe/London:20251122T000000
DTEND;TZID=Europe/London:20251122T235959
DTSTAMP:20260424T000748
CREATED:20260213T120245Z
LAST-MODIFIED:20260213T120245Z
UID:2469-1763769600-1763855999@gsdleagueworkingbranch.com
SUMMARY:Northampton IGP Club Trials
DESCRIPTION:Date: 22nd November 2025 \nJudge: Dougie Bannerman \nVenue: Lower Farm\, NN7 2EE \nTrial Secretary: Emma Woodruff \nPhone: 07880677225 \nEmail: elwoodruff90@gmail.com \nHelpers: Ross Heron \nTracklayers: Ross Heron
URL:https://gsdleagueworkingbranch.com/event/northampton-igp-club-trials/
LOCATION:Lower Farm\, Wootton Road\, Quinton\, Northampton\, NN7 2EE
END:VEVENT
BEGIN:VEVENT
DTSTART;TZID=Europe/London:20251129T000000
DTEND;TZID=Europe/London:20251129T235959
DTSTAMP:20260424T000748
CREATED:20260213T120454Z
LAST-MODIFIED:20260213T120454Z
UID:2473-1764374400-1764460799@gsdleagueworkingbranch.com
SUMMARY:Wessex Dog Sports Club Trial
DESCRIPTION:Judge: Henriette Bohnstedt \nVenue: Wessex Sports Dog Club\, Shepperlands Copse\, Park Lane\, Finchampstead RG40 4QE \nTrial Secretary: Matt Pit \nPhone: 07522163368 \nEmail: matthew.pitt9@gmail.com \nHelpers: George Walker \nTracklayers: George Walker
URL:https://gsdleagueworkingbranch.com/event/wessex-dog-sports-club-trial/
LOCATION:Wessex Sports Dog Club\, Shepperlands Copse\, Park Lane\, Finchampstead\, Wokingham\, Berkshire\, RG40 4QE
END:VEVENT
BEGIN:VEVENT
DTSTART;TZID=Europe/London:20251206T000000
DTEND;TZID=Europe/London:20251207T235959
DTSTAMP:20260424T000748
CREATED:20260213T114919Z
LAST-MODIFIED:20260213T114919Z
UID:2456-1764979200-1765151999@gsdleagueworkingbranch.com
SUMMARY:Pitsford IGP Club Trial
DESCRIPTION:Date: 6th & 7th December 2025 \nJudge: Robbie De Jong FCI \nVenue: The Piggeries\, Grange Lane\, Pitsford\, NN6 9AN \nTrial Secretary: Samantha Wortley \nPhone: 07917832911 \nEmail: sonicnix27@gmail.com \nHelpers: Chris Wilson & Oliver French \nTracklayers: Chris Wilson & Oliver French
URL:https://gsdleagueworkingbranch.com/event/pitsford-igp-club-trial-3/
LOCATION:Pitsford IGP Club\, The Piggeries\, Grange Lane\, Pitsford\, Northampton\, NN6 9AN
END:VEVENT
BEGIN:VEVENT
DTSTART;TZID=Europe/London:20251228T000000
DTEND;TZID=Europe/London:20251228T235959
DTSTAMP:20260424T000748
CREATED:20260213T115231Z
LAST-MODIFIED:20260213T115231Z
UID:2458-1766880000-1766966399@gsdleagueworkingbranch.com
SUMMARY:Trinity Sports Dog Club Trial
DESCRIPTION:Date: 28/12/25 \nJudge: Gavin Smith \nVenue: Dorking\, Surrey \nTrial Secretary: Maria Williamson \nPhone: 07900981508 \nEmail: shantasia_1@yahoo.co.uk \nHelpers: Veer Anand \nTracklayers: Paul Rekert & Stephen Byfield
URL:https://gsdleagueworkingbranch.com/event/trinity-sports-dog-club-trial/
END:VEVENT
BEGIN:VEVENT
DTSTART;TZID=Europe/London:20260104T000000
DTEND;TZID=Europe/London:20260104T235959
DTSTAMP:20260424T000748
CREATED:20260213T113233Z
LAST-MODIFIED:20260213T113233Z
UID:2445-1767484800-1767571199@gsdleagueworkingbranch.com
SUMMARY:Wye Valley DSC Club Trial
DESCRIPTION:Date: 04/01/2026 \nJudge: Gavin Smith \nVenue: Wye Valley Dog Sports Club\, Tonew Kennels\, Redwick\, NP26 3DF \nTrial Secretary: Tina Rose \nPhone: 07752193704 \nEmail: tina-rose1@hotmail.com \nHelpers: Ian James \nTracklayers: Ian James
URL:https://gsdleagueworkingbranch.com/event/wye-valley-dsc-club-trial/
LOCATION:Wye Valley Dog Sports Club\, Tonew Kennels\, Redwick\, NP26 3DF
END:VEVENT
BEGIN:VEVENT
DTSTART;TZID=Europe/London:20260110T000000
DTEND;TZID=Europe/London:20260111T235959
DTSTAMP:20260424T000748
CREATED:20260213T113400Z
LAST-MODIFIED:20260213T113400Z
UID:2448-1768003200-1768175999@gsdleagueworkingbranch.com
SUMMARY:Halesowen Dog Sport Group
DESCRIPTION:Date: 10th & 11th January 2026 \nJudge: Dougie Bannerman \nVenue: Illey Lane Halesowen West Midlands B62 0JL \nTrial Secretary: Katy Howard \nPhone: 07887633303 \nEmail: katyoliver2010@hotmail.co.uk \nHelpers: Richard Harrison & Mike Watt \nTracklayers: Richard Harrison &  Jason Clarke
URL:https://gsdleagueworkingbranch.com/event/halesowen-dog-sport-group/
END:VEVENT
BEGIN:VEVENT
DTSTART;TZID=Europe/London:20260110T000000
DTEND;TZID=Europe/London:20260111T235959
DTSTAMP:20260424T000748
CREATED:20260213T113746Z
LAST-MODIFIED:20260213T113746Z
UID:2453-1768003200-1768175999@gsdleagueworkingbranch.com
SUMMARY:Pitsford IGP Club Trial
DESCRIPTION:Date: 10th & 11th January 2026 \nJudge: Philip Sergent \nVenue: The Piggeries\, Grange Lane\, Pitsford\, NN6 9AN \nTrial Secretary: Samantha Wortley \nPhone: 079917832811 \nEmail: sonicnix27@gmail.com \nHelpers: Oliver French & Chris Wilson \nTracklayers: Oliver French & Chris Wilson
URL:https://gsdleagueworkingbranch.com/event/pitsford-igp-club-trial-2/
LOCATION:Pitsford IGP Club\, The Piggeries\, Grange Lane\, Pitsford\, Northampton\, NN6 9AN
END:VEVENT
BEGIN:VEVENT
DTSTART;TZID=Europe/London:20260201T130000
DTEND;TZID=Europe/London:20260201T170000
DTSTAMP:20260424T000748
CREATED:20260213T112850Z
LAST-MODIFIED:20260213T114430Z
UID:2442-1769950800-1769965200@gsdleagueworkingbranch.com
SUMMARY:GSDL-WDG AGM
DESCRIPTION:The AGM is online via Teams\, starting at 1pm.
URL:https://gsdleagueworkingbranch.com/event/gsdl-wdg-agm/
ATTACH;FMTTYPE=image/jpeg:https://gsdleagueworkingbranch.com/wp-content/uploads/2026/02/logo169.jpg
END:VEVENT
BEGIN:VEVENT
DTSTART;TZID=Europe/London:20260207T000000
DTEND;TZID=Europe/London:20260208T235959
DTSTAMP:20260424T000748
CREATED:20260213T113633Z
LAST-MODIFIED:20260213T113633Z
UID:2450-1770422400-1770595199@gsdleagueworkingbranch.com
SUMMARY:Pitsford IGP Club Trial
DESCRIPTION:Date: 7th & 8th February 2026 \nJudge: Robbie De Jong WUSV Special International \nVenue: The Piggeries\, Grange Lane\, Pitsford\, NN6 9AN \nTrial Secretary: Samantha Wortley \nPhone: 07917832911 \nEmail: sonicnix27@gmail.com \nHelpers: Oliver French & Chris Wilson \nTracklayers: Oliver French & Chris Wilson
URL:https://gsdleagueworkingbranch.com/event/pitsford-igp-club-trial/
LOCATION:Pitsford IGP Club\, The Piggeries\, Grange Lane\, Pitsford\, Northampton\, NN6 9AN
END:VEVENT
BEGIN:VEVENT
DTSTART;TZID=Europe/London:20260228T000000
DTEND;TZID=Europe/London:20260301T235959
DTSTAMP:20260424T000748
CREATED:20260213T111332Z
LAST-MODIFIED:20260213T111332Z
UID:2428-1772236800-1772409599@gsdleagueworkingbranch.com
SUMMARY:Sidewood IGP Club
DESCRIPTION:Date: 28th February & 1st March \nJudge: Diana Segers \nVenue: Sidewood Farm\, Stobwood\, Forth\, South Lanarkshire\, M11 8ET \nTrial Secretary: Anna Garber \nPhone: 07557119149 \nEmail: anngarber156@gmail.com \nHelpers: Marius Dubosas & Craig Goodall \nTracklayers: Andy Fairweather
URL:https://gsdleagueworkingbranch.com/event/sidewood-igp-club/
LOCATION:Sidewood Farm\, Stobwood\, Forth\, South Lanarkshire\, M11 8ET
END:VEVENT
BEGIN:VEVENT
DTSTART;TZID=Europe/London:20260307T000000
DTEND;TZID=Europe/London:20260308T235959
DTSTAMP:20260424T000748
CREATED:20260212T164236Z
LAST-MODIFIED:20260212T164236Z
UID:2384-1772841600-1773014399@gsdleagueworkingbranch.com
SUMMARY:Southern Counties SDC
DESCRIPTION:Date: 7th & 8th March \nJudge: Jim Jackson \nVenue: Oad Street\, Sittingbourne\, ME9 8LB \nTrial Secretary: Julie Johnson \nTelephone: 07816043419 \nEmail: jjuliejohnson@btinternet.com \nHelpers: Simon Hopcroft-Lopez \nTracklayers: Simon Hopcroft-Lopez
URL:https://gsdleagueworkingbranch.com/event/southern-counties-sdc/
END:VEVENT
BEGIN:VEVENT
DTSTART;TZID=Europe/London:20260314T000000
DTEND;TZID=Europe/London:20260315T235959
DTSTAMP:20260424T000748
CREATED:20260213T111620Z
LAST-MODIFIED:20260213T111620Z
UID:2432-1773446400-1773619199@gsdleagueworkingbranch.com
SUMMARY:Chase Dog Sports Club
DESCRIPTION:Date: 14th & 15th March 2026 \nJudge: Manfred Drescher SV \nVenue: 145 North Lane\, Norton Canes\, Walsall\, WS3 5AW \nTrial Secretary: Jessica Dunsdon \nPhone: 07944386817 \nEmail: jesscaninepride@gmail.com \nHelpers: Richard Harrison & Mike Watt \nTracklayers: Richard Harrison & Jason Clarke
URL:https://gsdleagueworkingbranch.com/event/chase-dog-sports-club/
LOCATION:Chase Dog Sports Club\, 145 North Lane\, Norton Canes\, Walsall\, WS3 5AW
END:VEVENT
BEGIN:VEVENT
DTSTART;TZID=Europe/London:20260321T000000
DTEND;TZID=Europe/London:20260321T235959
DTSTAMP:20260424T000748
CREATED:20260305T223221Z
LAST-MODIFIED:20260305T223221Z
UID:2617-1774051200-1774137599@gsdleagueworkingbranch.com
SUMMARY:Jurassic Coast Club Trial
DESCRIPTION:Date: 21st March 2026 \nJudge: Gary Khakhian \nVenue: Touchwood\, Stockbridge Road\, Salisbury\, SP5 1BW \nTrial Secretary: Ellie Littlechild \nPhone: 07478312321 \nEmail: jurassicigpsecretary@outlook.com \nHelpers: Aidan Jackson \nTracklayers: Aidan Jackson
URL:https://gsdleagueworkingbranch.com/event/jurassic-coast-club-trial/
END:VEVENT
BEGIN:VEVENT
DTSTART;TZID=Europe/London:20260411T000000
DTEND;TZID=Europe/London:20260412T235959
DTSTAMP:20260424T000748
CREATED:20260212T163800Z
LAST-MODIFIED:20260226T121733Z
UID:2378-1775865600-1776038399@gsdleagueworkingbranch.com
SUMMARY:FCI Joint Selection Trial
DESCRIPTION:Date: 11th & 12th April 2026 \nJudge: Ossian Modin (Sweden) \nVenue: Monmouthshire Showground\, Redbrook Road\, Monmouth\, NP25 4LG
URL:https://gsdleagueworkingbranch.com/event/fci-joint-selection-trial/
ATTACH;FMTTYPE=image/jpeg:https://gsdleagueworkingbranch.com/wp-content/uploads/2026/02/logo169.jpg
END:VEVENT
BEGIN:VEVENT
DTSTART;TZID=Europe/London:20260418T000000
DTEND;TZID=Europe/London:20260419T235959
DTSTAMP:20260424T000748
CREATED:20260305T221818Z
LAST-MODIFIED:20260305T221818Z
UID:2614-1776470400-1776643199@gsdleagueworkingbranch.com
SUMMARY:White Rose IGP Club Trial
DESCRIPTION:Date: 18th & 19th April 2026 \nJudge: Tom Nye \nVenue: Spout House Lane\, Brighouse \nTrial Secretary: Cheryl Spur \nPhone: 07397881705 \nEmail:reinglengsds@reinglen.co.uk \nHelpers: Jordan Carney \nTracklayers: Kevin Sullivan
URL:https://gsdleagueworkingbranch.com/event/white-rose-igp-club-trial/
END:VEVENT
BEGIN:VEVENT
DTSTART;TZID=Europe/London:20260419T000000
DTEND;TZID=Europe/London:20260419T235959
DTSTAMP:20260424T000748
CREATED:20260305T223637Z
LAST-MODIFIED:20260305T223637Z
UID:2621-1776556800-1776643199@gsdleagueworkingbranch.com
SUMMARY:Trininty Sports Dog Club
DESCRIPTION:Date: 19th April 2026 \nJudge: Gavin Smith \nVenue: Dorking\, Surrey \nTrial Secretary: Steve Willison \nPhone: 07809170567 \nEmail: trinitysportsdogclub@gmail.com \nHelpers: Veer Anand \nTracklayers: Stephen Byfield
URL:https://gsdleagueworkingbranch.com/event/trininty-sports-dog-club/
END:VEVENT
BEGIN:VEVENT
DTSTART;TZID=Europe/London:20260425T000000
DTEND;TZID=Europe/London:20260425T235959
DTSTAMP:20260424T000748
CREATED:20260306T113310Z
LAST-MODIFIED:20260306T113310Z
UID:2626-1777075200-1777161599@gsdleagueworkingbranch.com
SUMMARY:Fortress Dog Sport Club
DESCRIPTION:Date: 25th April 2026 \nJudge: Dean Banks \nVenue: Cherry Hill Pavillion\, Malpas \nTrial Secretary: Dawn Kilburn \nPhone: 07888 361223 \nEmail: info@fortressdogsport.org \nHelpers: John Padden \nTracklayers: John Padden
URL:https://gsdleagueworkingbranch.com/event/fortress-dog-sport-club/
END:VEVENT
BEGIN:VEVENT
DTSTART;TZID=Europe/London:20260426T000000
DTEND;TZID=Europe/London:20260426T235959
DTSTAMP:20260424T000748
CREATED:20260223T170523Z
LAST-MODIFIED:20260223T170523Z
UID:2600-1777161600-1777247999@gsdleagueworkingbranch.com
SUMMARY:Wych Beck Dog Sport
DESCRIPTION:Date: 26th April 2026 \nJudge: Dougie Bannerman SV \nVenue: Kil Green Cottage \nTrial Secretary: Alison Montgomery \nPhone: 07709430598 \nEmail: midquoy@hotmail.com \nHelpers: Milligan Montgomery \nTracklayers: Mark Montgomery
URL:https://gsdleagueworkingbranch.com/event/wych-beck-dog-sport/
END:VEVENT
BEGIN:VEVENT
DTSTART;TZID=Europe/London:20260502T000000
DTEND;TZID=Europe/London:20260502T235959
DTSTAMP:20260424T000748
CREATED:20260305T224108Z
LAST-MODIFIED:20260305T224108Z
UID:2624-1777680000-1777766399@gsdleagueworkingbranch.com
SUMMARY:Team Vanguard Club Trial
DESCRIPTION:Date: 2nd May 2026 \nJudge: Jim Jackson SV \nVenue: RG20 6QJ \nTrial Secretary: Sue Beel \nPhone: 01252330952 \nEmail: sue@beckenberry.com \nHelpers: Chris Wilson \nTracklayers: James Weller
URL:https://gsdleagueworkingbranch.com/event/team-vanguard-club-trial/
END:VEVENT
BEGIN:VEVENT
DTSTART;TZID=Europe/London:20260502T000000
DTEND;TZID=Europe/London:20260503T235959
DTSTAMP:20260424T000748
CREATED:20260213T111907Z
LAST-MODIFIED:20260213T111907Z
UID:2435-1777680000-1777852799@gsdleagueworkingbranch.com
SUMMARY:Team Marches Dog Sports
DESCRIPTION:Date: 2nd & 3rd May 2026 \nJudge: Heiko Grube SV \nVenue: Shenstone\, Kidderminster \nTrial Secretary: Lorraine foster \nPhone: 07973320413 \nEmail: lorrainefoster@me.com \nHelpers: Tom Meyer & Ashley Foster \nTracklayers: Tom Meyer & Travis Foster
URL:https://gsdleagueworkingbranch.com/event/team-marches-dog-sports/
LOCATION:Team Marches\, Shenstone\, Kidderminster
END:VEVENT
BEGIN:VEVENT
DTSTART;TZID=Europe/London:20260503T000000
DTEND;TZID=Europe/London:20260503T235959
DTSTAMP:20260424T000748
CREATED:20260223T170131Z
LAST-MODIFIED:20260223T170131Z
UID:2597-1777766400-1777852799@gsdleagueworkingbranch.com
SUMMARY:Northampton IGP Club Trial
DESCRIPTION:Date: 3rd May 2026 \nJudge: Jim Jackson SV \nVenue: Lower Farm\, NN7 2EE \nTrial Secretary: Ruth Robinson \nPhone: 07813527831 \nEmail: ruth.doubler@outlook.com \nHelpers: Ross Heron \nTracklayers: Ross Heron \n 
URL:https://gsdleagueworkingbranch.com/event/northampton-igp-club-trial/
END:VEVENT
BEGIN:VEVENT
DTSTART;TZID=Europe/London:20260530T000000
DTEND;TZID=Europe/London:20260531T235959
DTSTAMP:20260424T000748
CREATED:20260213T112225Z
LAST-MODIFIED:20260213T114307Z
UID:2438-1780099200-1780271999@gsdleagueworkingbranch.com
SUMMARY:WUSV Joint Selection Trial
DESCRIPTION:Date: 30th & 31st May 2026 \nVenue: Willenhall RUFC \nJudge: Jari Kokkonen (Finland)
URL:https://gsdleagueworkingbranch.com/event/wusv-joint-selection-trial/
LOCATION:Willenhall RUFC\, Bognop Road\, Essington\, Staffordshire\, WV11 2BA
ATTACH;FMTTYPE=image/jpeg:https://gsdleagueworkingbranch.com/wp-content/uploads/2026/02/logo169.jpg
END:VEVENT
BEGIN:VEVENT
DTSTART;TZID=Europe/London:20260607T000000
DTEND;TZID=Europe/London:20260607T235959
DTSTAMP:20260424T000748
CREATED:20260415T194540Z
LAST-MODIFIED:20260415T194731Z
UID:2669-1780790400-1780876799@gsdleagueworkingbranch.com
SUMMARY:Phoenix IGP Club trial
DESCRIPTION:Date: Sunday 7th June 2026 \nJudge: Henriette Bohnstedt \nVenue: Muckley Corner\, Lichfield\, Staffs\, WS14 0BD \nTrial Secretary: Gill Davis \nPhone: 07711271292 \nEmail:daeloisbsd@ntlworld.com \nHelpers: Martin Grainger \nTracklayers: Tom Davis
URL:https://gsdleagueworkingbranch.com/event/phoenix-igp-club-trial/
END:VEVENT
BEGIN:VEVENT
DTSTART;TZID=Europe/London:20260628T000000
DTEND;TZID=Europe/London:20260628T235959
DTSTAMP:20260424T000748
CREATED:20260415T195848Z
LAST-MODIFIED:20260415T203159Z
UID:2672-1782604800-1782691199@gsdleagueworkingbranch.com
SUMMARY:Whitchurch IPO Club Trial
DESCRIPTION:Date: 28th June 2026 \nJudge: Henriette Bohnstedt \nVenue: Ash Lane\, Whitchurch\, SY13 4BP \nTrial Secretary: Debbie Parsons \nPhone: 07866612107 \nEmail: ottias@talk21.com \nHelpers: Andy Parsons \nTracklayers: Mick Hammond \n 
URL:https://gsdleagueworkingbranch.com/event/whitchurch-ipo-club-trial/
END:VEVENT
END:VCALENDAR