BEGIN:VCALENDAR
VERSION:2.0
PRODID:-//GSDL Working Dog Group of Great Britain - ECPv6.15.16//NONSGML v1.0//EN
CALSCALE:GREGORIAN
METHOD:PUBLISH
X-WR-CALNAME:GSDL Working Dog Group of Great Britain
X-ORIGINAL-URL:https://gsdleagueworkingbranch.com
X-WR-CALDESC:Events for GSDL Working Dog Group of Great Britain
REFRESH-INTERVAL;VALUE=DURATION:PT1H
X-Robots-Tag:noindex
X-PUBLISHED-TTL:PT1H
BEGIN:VTIMEZONE
TZID:Europe/London
BEGIN:DAYLIGHT
TZOFFSETFROM:+0000
TZOFFSETTO:+0100
TZNAME:BST
DTSTART:20240331T010000
END:DAYLIGHT
BEGIN:STANDARD
TZOFFSETFROM:+0100
TZOFFSETTO:+0000
TZNAME:GMT
DTSTART:20241027T010000
END:STANDARD
BEGIN:DAYLIGHT
TZOFFSETFROM:+0000
TZOFFSETTO:+0100
TZNAME:BST
DTSTART:20250330T010000
END:DAYLIGHT
BEGIN:STANDARD
TZOFFSETFROM:+0100
TZOFFSETTO:+0000
TZNAME:GMT
DTSTART:20251026T010000
END:STANDARD
BEGIN:DAYLIGHT
TZOFFSETFROM:+0000
TZOFFSETTO:+0100
TZNAME:BST
DTSTART:20260329T010000
END:DAYLIGHT
BEGIN:STANDARD
TZOFFSETFROM:+0100
TZOFFSETTO:+0000
TZNAME:GMT
DTSTART:20261025T010000
END:STANDARD
END:VTIMEZONE
BEGIN:VEVENT
DTSTART;TZID=Europe/London:20251115T000000
DTEND;TZID=Europe/London:20251116T235959
DTSTAMP:20260423T210834
CREATED:20260213T115755Z
LAST-MODIFIED:20260213T115755Z
UID:2465-1763164800-1763337599@gsdleagueworkingbranch.com
SUMMARY:Severnside SDC Club Trial & AD
DESCRIPTION:Date: 15th & 16th November 2025 \nClub Trial: 15th November 2025 \nAD: 16th November 2025 \nJudge: Jim Jackson SV \nVenue: Barecroft Common\, Magor \nTrial Secretary: Martin Davies \nPhone: 07973285765 \nEmail: martind.k9@icloud.com \nHelpers: Nick Warman & Oliver Williams \nTracklayers: Bethan Allen & Martin Davies
URL:https://gsdleagueworkingbranch.com/event/severnside-sdc-club-trial-ad/
LOCATION:Barecroft Common\, Magor\, Caldicot\, Monmouthshire
END:VEVENT
BEGIN:VEVENT
DTSTART;TZID=Europe/London:20251108T000000
DTEND;TZID=Europe/London:20251109T235959
DTSTAMP:20260423T210834
CREATED:20260213T115543Z
LAST-MODIFIED:20260213T115543Z
UID:2462-1762560000-1762732799@gsdleagueworkingbranch.com
SUMMARY:Three Beacons SDC Club Trial
DESCRIPTION:Dates: 8th & 9th November 2025\n\n\nJudge: Jim Jackson \nVenue: Gidlow Lane\, Wigan\, Greater Manchester\, WN6 8RT \nTrial Secretary: Sharon Smith \nPhone: 07940297832 \nEmail: NWGSDG@gmail.com \nHelpers: John Padden \nTracklayers: Alexandra Smith
URL:https://gsdleagueworkingbranch.com/event/three-beacons-sdc-club-trial/
LOCATION:Gidlow Lane\, Wigan\, Greater Manchester\, WN6 8RT
END:VEVENT
BEGIN:VEVENT
DTSTART;TZID=Europe/London:20251025T000000
DTEND;TZID=Europe/London:20251026T235959
DTSTAMP:20260423T210834
CREATED:20260213T115341Z
LAST-MODIFIED:20260219T220023Z
UID:2460-1761350400-1761523199@gsdleagueworkingbranch.com
SUMMARY:GSDL Nationals
DESCRIPTION:Date: 25th and 26th October 2025 \nVenue: Willenhall RFC \nJudge: Diana Segers \nHelpers: John Padden & Richard Harrison \nTracklayers: Richard Harrison & Lewis Hartley \nhttps://www.caniva.com/event/21674/GSDL-Nationals-2025/
URL:https://gsdleagueworkingbranch.com/event/gsdl-nationals/
LOCATION:Willenhall RUFC\, Bognop Road\, Essington\, Staffordshire\, WV11 2BA
ATTACH;FMTTYPE=image/jpeg:https://gsdleagueworkingbranch.com/wp-content/uploads/2026/02/logo169.jpg
END:VEVENT
END:VCALENDAR